BEGIN:VCALENDAR
VERSION:2.0
PRODID:-//WELSRC - ECPv6.15.18//NONSGML v1.0//EN
CALSCALE:GREGORIAN
METHOD:PUBLISH
X-ORIGINAL-URL:https://welsrc.net
X-WR-CALDESC:Events for WELSRC
REFRESH-INTERVAL;VALUE=DURATION:PT1H
X-Robots-Tag:noindex
X-PUBLISHED-TTL:PT1H
BEGIN:VTIMEZONE
TZID:America/Chicago
BEGIN:DAYLIGHT
TZOFFSETFROM:-0600
TZOFFSETTO:-0500
TZNAME:CDT
DTSTART:20250309T080000
END:DAYLIGHT
BEGIN:STANDARD
TZOFFSETFROM:-0500
TZOFFSETTO:-0600
TZNAME:CST
DTSTART:20251102T070000
END:STANDARD
BEGIN:DAYLIGHT
TZOFFSETFROM:-0600
TZOFFSETTO:-0500
TZNAME:CDT
DTSTART:20260308T080000
END:DAYLIGHT
BEGIN:STANDARD
TZOFFSETFROM:-0500
TZOFFSETTO:-0600
TZNAME:CST
DTSTART:20261101T070000
END:STANDARD
BEGIN:DAYLIGHT
TZOFFSETFROM:-0600
TZOFFSETTO:-0500
TZNAME:CDT
DTSTART:20270314T080000
END:DAYLIGHT
BEGIN:STANDARD
TZOFFSETFROM:-0500
TZOFFSETTO:-0600
TZNAME:CST
DTSTART:20271107T070000
END:STANDARD
END:VTIMEZONE
BEGIN:VEVENT
DTSTART;VALUE=DATE:20260307
DTEND;VALUE=DATE:20260310
DTSTAMP:20260420T050738
CREATED:20251216T213116Z
LAST-MODIFIED:20251216T213212Z
UID:10001231-1772841600-1773100799@welsrc.net
SUMMARY:Pathways to Christ Women's Retreat
DESCRIPTION:“Rooted in Faith\, Active in Love” is our 2026 theme based on the book of James. See the website for all details: pathwaystochrist.org
URL:https://welsrc.net/event/pathways-to-christ-womens-retreat/
LOCATION:LaSure’s Hall and Hawthorn Suites\, Oshkosh\, WI\, United States
CATEGORIES:Other
ORGANIZER;CN="pathwaystochristretreat@gmail.com":MAILTO:pathwaystochristretreat@gmail.com
END:VEVENT
END:VCALENDAR