BEGIN:VCALENDAR
VERSION:2.0
PRODID:-//WELSRC - ECPv6.15.18//NONSGML v1.0//EN
CALSCALE:GREGORIAN
METHOD:PUBLISH
X-WR-CALNAME:WELSRC
X-ORIGINAL-URL:https://welsrc.net
X-WR-CALDESC:Events for WELSRC
REFRESH-INTERVAL;VALUE=DURATION:PT1H
X-Robots-Tag:noindex
X-PUBLISHED-TTL:PT1H
BEGIN:VTIMEZONE
TZID:America/Chicago
BEGIN:DAYLIGHT
TZOFFSETFROM:-0600
TZOFFSETTO:-0500
TZNAME:CDT
DTSTART:20250309T080000
END:DAYLIGHT
BEGIN:STANDARD
TZOFFSETFROM:-0500
TZOFFSETTO:-0600
TZNAME:CST
DTSTART:20251102T070000
END:STANDARD
BEGIN:DAYLIGHT
TZOFFSETFROM:-0600
TZOFFSETTO:-0500
TZNAME:CDT
DTSTART:20260308T080000
END:DAYLIGHT
BEGIN:STANDARD
TZOFFSETFROM:-0500
TZOFFSETTO:-0600
TZNAME:CST
DTSTART:20261101T070000
END:STANDARD
BEGIN:DAYLIGHT
TZOFFSETFROM:-0600
TZOFFSETTO:-0500
TZNAME:CDT
DTSTART:20270314T080000
END:DAYLIGHT
BEGIN:STANDARD
TZOFFSETFROM:-0500
TZOFFSETTO:-0600
TZNAME:CST
DTSTART:20271107T070000
END:STANDARD
END:VTIMEZONE
BEGIN:VEVENT
DTSTART;TZID=America/Chicago:20260612T160000
DTEND;TZID=America/Chicago:20260615T110000
DTSTAMP:20260420T065354
CREATED:20260224T141528Z
LAST-MODIFIED:20260224T141619Z
UID:10001303-1781280000-1781521200@welsrc.net
SUMMARY:WELS Missionary “Kid” Retreat
DESCRIPTION:Every June WELS Missionary “kids” gather together for a weekend of fellowship and God’s Word. The invitation is there for any MK who lived on a world mission field and is now 15 years old or older. The retreat this year is being held at Green Lake Conference Center in Green Lake\, WI from June 12-15. Visit to our website to register.
URL:https://welsrc.net/event/wels-missionary-kid-retreat/
LOCATION:Green Lake Conference Center\, Green Lake\, WI\, United States
CATEGORIES:Retreat
GEO:43.8441481;-88.9601133
END:VEVENT
END:VCALENDAR