BEGIN:VCALENDAR
VERSION:2.0
PRODID:-//WELSRC - ECPv6.15.20//NONSGML v1.0//EN
CALSCALE:GREGORIAN
METHOD:PUBLISH
X-ORIGINAL-URL:https://welsrc.net
X-WR-CALDESC:Events for WELSRC
REFRESH-INTERVAL;VALUE=DURATION:PT1H
X-Robots-Tag:noindex
X-PUBLISHED-TTL:PT1H
BEGIN:VTIMEZONE
TZID:America/Chicago
BEGIN:DAYLIGHT
TZOFFSETFROM:-0600
TZOFFSETTO:-0500
TZNAME:CDT
DTSTART:20250309T080000
END:DAYLIGHT
BEGIN:STANDARD
TZOFFSETFROM:-0500
TZOFFSETTO:-0600
TZNAME:CST
DTSTART:20251102T070000
END:STANDARD
BEGIN:DAYLIGHT
TZOFFSETFROM:-0600
TZOFFSETTO:-0500
TZNAME:CDT
DTSTART:20260308T080000
END:DAYLIGHT
BEGIN:STANDARD
TZOFFSETFROM:-0500
TZOFFSETTO:-0600
TZNAME:CST
DTSTART:20261101T070000
END:STANDARD
BEGIN:DAYLIGHT
TZOFFSETFROM:-0600
TZOFFSETTO:-0500
TZNAME:CDT
DTSTART:20270314T080000
END:DAYLIGHT
BEGIN:STANDARD
TZOFFSETFROM:-0500
TZOFFSETTO:-0600
TZNAME:CST
DTSTART:20271107T070000
END:STANDARD
END:VTIMEZONE
BEGIN:VEVENT
DTSTART;VALUE=DATE:20261019
DTEND;VALUE=DATE:20261021
DTSTAMP:20260424T083307
CREATED:20260406T231049Z
LAST-MODIFIED:20260406T231049Z
UID:10001321-1792368000-1792540799@welsrc.net
SUMMARY:Michigan - Ohio Conference
DESCRIPTION:Pastors conference \n\nCopies: 1 \nMinisterial Education Representative:  \nNotes: Send 1 copy by pdf to ohconfsec@gmail.com. \n 
URL:https://welsrc.net/event/michigan-ohio-conference/
LOCATION:Amazing Grace Lutheran Church – Florence\, KY\, 7804 Pleasant Valley Rd\, Florence\, KY\, 41042\, United States
CATEGORIES:Conferences and Conventions
END:VEVENT
END:VCALENDAR