BEGIN:VCALENDAR
VERSION:2.0
PRODID:-//WELSRC - ECPv6.15.18//NONSGML v1.0//EN
CALSCALE:GREGORIAN
METHOD:PUBLISH
X-ORIGINAL-URL:https://welsrc.net
X-WR-CALDESC:Events for WELSRC
REFRESH-INTERVAL;VALUE=DURATION:PT1H
X-Robots-Tag:noindex
X-PUBLISHED-TTL:PT1H
BEGIN:VTIMEZONE
TZID:America/Chicago
BEGIN:DAYLIGHT
TZOFFSETFROM:-0600
TZOFFSETTO:-0500
TZNAME:CDT
DTSTART:20250309T080000
END:DAYLIGHT
BEGIN:STANDARD
TZOFFSETFROM:-0500
TZOFFSETTO:-0600
TZNAME:CST
DTSTART:20251102T070000
END:STANDARD
BEGIN:DAYLIGHT
TZOFFSETFROM:-0600
TZOFFSETTO:-0500
TZNAME:CDT
DTSTART:20260308T080000
END:DAYLIGHT
BEGIN:STANDARD
TZOFFSETFROM:-0500
TZOFFSETTO:-0600
TZNAME:CST
DTSTART:20261101T070000
END:STANDARD
BEGIN:DAYLIGHT
TZOFFSETFROM:-0600
TZOFFSETTO:-0500
TZNAME:CDT
DTSTART:20270314T080000
END:DAYLIGHT
BEGIN:STANDARD
TZOFFSETFROM:-0500
TZOFFSETTO:-0600
TZNAME:CST
DTSTART:20271107T070000
END:STANDARD
END:VTIMEZONE
BEGIN:VEVENT
DTSTART;VALUE=DATE:20260913
DTEND;VALUE=DATE:20260916
DTSTAMP:20260419T091818
CREATED:20260210T220025Z
LAST-MODIFIED:20260210T220025Z
UID:10001292-1789257600-1789516799@welsrc.net
SUMMARY:Minnesota - Mankato/Minnesota River Valley Conference
DESCRIPTION:Pastors conference \n\nCopies: 45 \nMinisterial Education Representative:  \nNotes: 
URL:https://welsrc.net/event/minnesota-mankato-minnesota-river-valley-conference/
LOCATION:Dunrovin Retreat Center\, 15525 St. Croix Trail\, Marine\, MN\, 55047\, United States
CATEGORIES:Conferences and Conventions
ORGANIZER;CN="Martin Bentz":MAILTO:mbentz@trinitybelleplaine.org
GEO:45.175973;-92.762403
X-APPLE-STRUCTURED-LOCATION;VALUE=URI;X-ADDRESS=Dunrovin Retreat Center 15525 St. Croix Trail Marine MN 55047 United States;X-APPLE-RADIUS=500;X-TITLE=15525 St. Croix Trail:geo:-92.762403,45.175973
END:VEVENT
END:VCALENDAR