BEGIN:VCALENDAR
VERSION:2.0
PRODID:-//WELSRC - ECPv6.15.20//NONSGML v1.0//EN
CALSCALE:GREGORIAN
METHOD:PUBLISH
X-ORIGINAL-URL:https://welsrc.net
X-WR-CALDESC:Events for WELSRC
REFRESH-INTERVAL;VALUE=DURATION:PT1H
X-Robots-Tag:noindex
X-PUBLISHED-TTL:PT1H
BEGIN:VTIMEZONE
TZID:America/Chicago
BEGIN:DAYLIGHT
TZOFFSETFROM:-0600
TZOFFSETTO:-0500
TZNAME:CDT
DTSTART:20260308T080000
END:DAYLIGHT
BEGIN:STANDARD
TZOFFSETFROM:-0500
TZOFFSETTO:-0600
TZNAME:CST
DTSTART:20261101T070000
END:STANDARD
BEGIN:DAYLIGHT
TZOFFSETFROM:-0600
TZOFFSETTO:-0500
TZNAME:CDT
DTSTART:20270314T080000
END:DAYLIGHT
BEGIN:STANDARD
TZOFFSETFROM:-0500
TZOFFSETTO:-0600
TZNAME:CST
DTSTART:20271107T070000
END:STANDARD
BEGIN:DAYLIGHT
TZOFFSETFROM:-0600
TZOFFSETTO:-0500
TZNAME:CDT
DTSTART:20280312T080000
END:DAYLIGHT
BEGIN:STANDARD
TZOFFSETFROM:-0500
TZOFFSETTO:-0600
TZNAME:CST
DTSTART:20281105T070000
END:STANDARD
END:VTIMEZONE
BEGIN:VEVENT
DTSTART;VALUE=DATE:20270305
DTEND;VALUE=DATE:20270306
DTSTAMP:20260422T162849
CREATED:20260318T213545Z
LAST-MODIFIED:20260318T213556Z
UID:10001312-1804204800-1804291199@welsrc.net
SUMMARY:Arizona-California - Southern California Teachers Conference
DESCRIPTION:Teachers conference \n\nCopies: 55 \nMinisterial Education Representative:  \nNotes: 
URL:https://welsrc.net/event/arizona-california-southern-california-teachers-conference/
LOCATION:Beautiful Savior Lutheran Church – Carlsbad\, CA\, 3030 Valley St\, Carlsbad\, 92008-1154
CATEGORIES:Conferences and Conventions
ORGANIZER;CN="Tim Vogel":MAILTO:sothprincipal@gmail.com
END:VEVENT
BEGIN:VEVENT
DTSTART;VALUE=DATE:20270305
DTEND;VALUE=DATE:20270306
DTSTAMP:20260422T162849
CREATED:20260318T213749Z
LAST-MODIFIED:20260421T181336Z
UID:10001313-1804204800-1804291199@welsrc.net
SUMMARY:Southeastern Wisconsin - Milwaukee Metro Teachers Conference
DESCRIPTION:Teachers conference \n\nCopies: 260 \nMinisterial Education Representative:  \nNotes: By 2/12\, send copies to Wisco\, c/o Chris Bartsch\, 330 Glenview Ave\, Milwaukee\, WI 53213.
URL:https://welsrc.net/event/southeastern-wisconsin-milwaukee-metro-teachers-conference/
LOCATION:Wisconsin Lutheran High School\, 330 N. Glenview Ave\, Milwaukee\, WI\, 53213-3326\, United States
CATEGORIES:Conferences and Conventions
ORGANIZER;CN="Chris Bartsch":MAILTO:chris.bartsch@wlhs.org
GEO:43.0343423;-88.0156531
X-APPLE-STRUCTURED-LOCATION;VALUE=URI;X-ADDRESS=Wisconsin Lutheran High School 330 N. Glenview Ave Milwaukee WI 53213-3326 United States;X-APPLE-RADIUS=500;X-TITLE=330 N. Glenview Ave:geo:-88.0156531,43.0343423
END:VEVENT
BEGIN:VEVENT
DTSTART;VALUE=DATE:20270312
DTEND;VALUE=DATE:20270313
DTSTAMP:20260422T162849
CREATED:20260318T214341Z
LAST-MODIFIED:20260318T214341Z
UID:10001315-1804809600-1804895999@welsrc.net
SUMMARY:Nebraska - Colorado Teachers Conference
DESCRIPTION:Teachers conference \n\nCopies: 30 \nMinisterial Education Representative:  \nNotes: 
URL:https://welsrc.net/event/nebraska-colorado-teachers-conference/
LOCATION:Rocky Mountain Lutheran High School\, 10391 Luther Court\, Commerce City\, CO\, 80022\, United States
CATEGORIES:Conferences and Conventions
ORGANIZER;CN="Chris Avery":MAILTO:avery.chris@cor.school
END:VEVENT
BEGIN:VEVENT
DTSTART;VALUE=DATE:20270318
DTEND;VALUE=DATE:20270320
DTSTAMP:20260422T162849
CREATED:20260406T230710Z
LAST-MODIFIED:20260406T230720Z
UID:10001320-1805328000-1805500799@welsrc.net
SUMMARY:Pacific Northwest District Teachers Conference
DESCRIPTION:Teachers conference \n\nCopies: 70 \nMinisterial Education Representative:  \nNotes: 
URL:https://welsrc.net/event/pacific-northwest-district-teachers-conference/
LOCATION:Evergreen Lutheran High School\, 7306 Waller Rd E\, Tacoma\, WA\, 98443\, United States
CATEGORIES:Conferences and Conventions
ORGANIZER;CN="Jason Gibson":MAILTO:jgibson@htls-wa.net
GEO:47.1905323;-122.3919958
X-APPLE-STRUCTURED-LOCATION;VALUE=URI;X-ADDRESS=Evergreen Lutheran High School 7306 Waller Rd E Tacoma WA 98443 United States;X-APPLE-RADIUS=500;X-TITLE=7306 Waller Rd E:geo:-122.3919958,47.1905323
END:VEVENT
BEGIN:VEVENT
DTSTART;VALUE=DATE:20271004
DTEND;VALUE=DATE:20271005
DTSTAMP:20260422T162849
CREATED:20250827T174018Z
LAST-MODIFIED:20250827T174018Z
UID:10001226-1822608000-1822694399@welsrc.net
SUMMARY:Southeastern Wisconsin - Western Lakes Conference
DESCRIPTION:Pastors conference \n\nCopies: 50 \nMinisterial Education Representative:  \nNotes: 
URL:https://welsrc.net/event/southeastern-wisconsin-western-lakes-conference-3/
LOCATION:Pilgrim Lutheran Church – Menomonee Falls\, WI\, W156N5436 Bette Dr\, Menomonee Falls\, 53051-6738\, United States
CATEGORIES:Conferences and Conventions
ORGANIZER;CN="Aaron Voss":MAILTO:pastor.a.voss@gmail.com
END:VEVENT
END:VCALENDAR