BEGIN:VCALENDAR
VERSION:2.0
PRODID:-//WELSRC - ECPv6.15.20//NONSGML v1.0//EN
CALSCALE:GREGORIAN
METHOD:PUBLISH
X-ORIGINAL-URL:https://welsrc.net
X-WR-CALDESC:Events for WELSRC
REFRESH-INTERVAL;VALUE=DURATION:PT1H
X-Robots-Tag:noindex
X-PUBLISHED-TTL:PT1H
BEGIN:VTIMEZONE
TZID:America/Chicago
BEGIN:DAYLIGHT
TZOFFSETFROM:-0600
TZOFFSETTO:-0500
TZNAME:CDT
DTSTART:20250309T080000
END:DAYLIGHT
BEGIN:STANDARD
TZOFFSETFROM:-0500
TZOFFSETTO:-0600
TZNAME:CST
DTSTART:20251102T070000
END:STANDARD
BEGIN:DAYLIGHT
TZOFFSETFROM:-0600
TZOFFSETTO:-0500
TZNAME:CDT
DTSTART:20260308T080000
END:DAYLIGHT
BEGIN:STANDARD
TZOFFSETFROM:-0500
TZOFFSETTO:-0600
TZNAME:CST
DTSTART:20261101T070000
END:STANDARD
BEGIN:DAYLIGHT
TZOFFSETFROM:-0600
TZOFFSETTO:-0500
TZNAME:CDT
DTSTART:20270314T080000
END:DAYLIGHT
BEGIN:STANDARD
TZOFFSETFROM:-0500
TZOFFSETTO:-0600
TZNAME:CST
DTSTART:20271107T070000
END:STANDARD
BEGIN:DAYLIGHT
TZOFFSETFROM:-0600
TZOFFSETTO:-0500
TZNAME:CDT
DTSTART:20280312T080000
END:DAYLIGHT
BEGIN:STANDARD
TZOFFSETFROM:-0500
TZOFFSETTO:-0600
TZNAME:CST
DTSTART:20281105T070000
END:STANDARD
END:VTIMEZONE
BEGIN:VEVENT
DTSTART;VALUE=DATE:20260908
DTEND;VALUE=DATE:20260909
DTSTAMP:20260422T095759
CREATED:20260217T165236Z
LAST-MODIFIED:20260217T165236Z
UID:10001298-1788825600-1788911999@welsrc.net
SUMMARY:Minnesota - St. Croix Conference
DESCRIPTION:Pastors conference \n\nCopies: 60 \nMinisterial Education Representative:  \nNotes: 
URL:https://welsrc.net/event/minnesota-st-croix-conference-2/
LOCATION:Zion Lutheran Church – Almena\, 426 17th Ave\, Almena\, WI\, 54805\, United States
CATEGORIES:Conferences and Conventions
ORGANIZER;CN="Bill Brassow":MAILTO:stcroixconference@gmail.com
END:VEVENT
BEGIN:VEVENT
DTSTART;VALUE=DATE:20260913
DTEND;VALUE=DATE:20260916
DTSTAMP:20260422T095759
CREATED:20260210T220025Z
LAST-MODIFIED:20260210T220025Z
UID:10001292-1789257600-1789516799@welsrc.net
SUMMARY:Minnesota - Mankato/Minnesota River Valley Conference
DESCRIPTION:Pastors conference \n\nCopies: 45 \nMinisterial Education Representative:  \nNotes: 
URL:https://welsrc.net/event/minnesota-mankato-minnesota-river-valley-conference/
LOCATION:Dunrovin Retreat Center\, 15525 St. Croix Trail\, Marine\, MN\, 55047\, United States
CATEGORIES:Conferences and Conventions
ORGANIZER;CN="Martin Bentz":MAILTO:mbentz@trinitybelleplaine.org
GEO:45.175973;-92.762403
X-APPLE-STRUCTURED-LOCATION;VALUE=URI;X-ADDRESS=Dunrovin Retreat Center 15525 St. Croix Trail Marine MN 55047 United States;X-APPLE-RADIUS=500;X-TITLE=15525 St. Croix Trail:geo:-92.762403,45.175973
END:VEVENT
BEGIN:VEVENT
DTSTART;VALUE=DATE:20260914
DTEND;VALUE=DATE:20260916
DTSTAMP:20260422T095759
CREATED:20260217T163831Z
LAST-MODIFIED:20260406T230541Z
UID:10001297-1789344000-1789516799@welsrc.net
SUMMARY:Southeastern Wisconsin - Chicago Conference
DESCRIPTION:Pastors conference \n\nCopies: 35 \nMinisterial Education Representative:  \nNotes: 
URL:https://welsrc.net/event/southeastern-wisconsin-chicago-conference/
LOCATION:Lamb of God Lutheran Church – West Lafayette\, IN\, 1893 E 600 N\, West Lafayette\, IN\, 47906-9608\, United States
CATEGORIES:Conferences and Conventions
ORGANIZER;CN="Caleb Klatt":MAILTO:pastorklatt@gmail.com
END:VEVENT
BEGIN:VEVENT
DTSTART;VALUE=DATE:20260915
DTEND;VALUE=DATE:20260916
DTSTAMP:20260422T095759
CREATED:20260210T220234Z
LAST-MODIFIED:20260210T220234Z
UID:10001293-1789430400-1789516799@welsrc.net
SUMMARY:Western Wisconsin - Mississippi River Valley Conference
DESCRIPTION:Pastors conference \n\nCopies: 30 \nMinisterial Education Representative:  \nNotes: 
URL:https://welsrc.net/event/western-wisconsin-mississippi-river-valley-conference/
LOCATION:WI
CATEGORIES:Conferences and Conventions
ORGANIZER;CN="Jon Cox":MAILTO:jon.nathan.cox@gmail.com
END:VEVENT
BEGIN:VEVENT
DTSTART;VALUE=DATE:20260922
DTEND;VALUE=DATE:20260923
DTSTAMP:20260422T095759
CREATED:20260318T213231Z
LAST-MODIFIED:20260318T213231Z
UID:10001311-1790035200-1790121599@welsrc.net
SUMMARY:Northern Wisconsin - Fox River Valley Conference
DESCRIPTION:Pastors conference \n\nCopies: 80 \nMinisterial Education Representative:  \nNotes: 
URL:https://welsrc.net/event/northern-wisconsin-fox-river-valley-conference/
LOCATION:St Paul Lutheran Church – Clintonville\, WI\, 31 N Park St\, Clintonville\, 54929-1169
CATEGORIES:Conferences and Conventions
ORGANIZER;CN="Ryan Kolander":MAILTO:frvpc_sectres@nwd-wels.org
END:VEVENT
BEGIN:VEVENT
DTSTART;VALUE=DATE:20260922
DTEND;VALUE=DATE:20260924
DTSTAMP:20260422T095759
CREATED:20260421T175824Z
LAST-MODIFIED:20260421T175824Z
UID:10001325-1790035200-1790207999@welsrc.net
SUMMARY:Western Wisconsin - Southwestern Conference
DESCRIPTION:Pastors conference \n\nCopies: 30 \nMinisterial Education Representative:  \nNotes: 
URL:https://welsrc.net/event/western-wisconsin-southwestern-conference/
LOCATION:St Paul Lutheran Church – Wonewoc\, WI\, 119 S East St\, Wonewoc\, WI\, 53968\, United States
CATEGORIES:Conferences and Conventions
ORGANIZER;CN="Micah Schoeneck":MAILTO:mschoeneck@sjsparta.com
END:VEVENT
BEGIN:VEVENT
DTSTART;VALUE=DATE:20260922
DTEND;VALUE=DATE:20260924
DTSTAMP:20260422T095759
CREATED:20260421T180000Z
LAST-MODIFIED:20260421T180000Z
UID:10001326-1790035200-1790207999@welsrc.net
SUMMARY:Dakota-Montana - Rocky Mountain Conference
DESCRIPTION:Pastors conference \n\nCopies: 25 \nMinisterial Education Representative:  \nNotes: 
URL:https://welsrc.net/event/dakota-montana-rocky-mountain-conference/
LOCATION:WI
CATEGORIES:Conferences and Conventions
ORGANIZER;CN="Paul Stern":MAILTO:pstern1985@gmail.com
END:VEVENT
BEGIN:VEVENT
DTSTART;VALUE=DATE:20260928
DTEND;VALUE=DATE:20260930
DTSTAMP:20260422T095759
CREATED:20260210T220518Z
LAST-MODIFIED:20260210T220518Z
UID:10001294-1790553600-1790726399@welsrc.net
SUMMARY:Minnesota - Southern Conference
DESCRIPTION:Pastors conference \n\nCopies: 14 \nMinisterial Education Representative:  \nNotes: 
URL:https://welsrc.net/event/minnesota-southern-conference/
LOCATION:WI
CATEGORIES:Conferences and Conventions
ORGANIZER;CN="Mathew Pfeifer":MAILTO:pastormrp@gmail.com
END:VEVENT
BEGIN:VEVENT
DTSTART;VALUE=DATE:20260928
DTEND;VALUE=DATE:20260930
DTSTAMP:20260422T095759
CREATED:20260217T165438Z
LAST-MODIFIED:20260217T165438Z
UID:10001299-1790553600-1790726399@welsrc.net
SUMMARY:Minnesota - Crow River Conference
DESCRIPTION:Pastors conference \n\nCopies: 1 \nMinisterial Education Representative:  \nNotes: Send 1 copy by pdf to sptrinch@lakedalelink.net.
URL:https://welsrc.net/event/minnesota-crow-river-conference/
LOCATION:WI
CATEGORIES:Conferences and Conventions
ORGANIZER;CN="James Grabitske":MAILTO:sptrinch@lakedalelink.net
END:VEVENT
BEGIN:VEVENT
DTSTART;VALUE=DATE:20260929
DTEND;VALUE=DATE:20261001
DTSTAMP:20260422T095759
CREATED:20260421T180235Z
LAST-MODIFIED:20260421T180235Z
UID:10001327-1790640000-1790812799@welsrc.net
SUMMARY:Dakota-Montana - Western Conference
DESCRIPTION:Pastors conference \n\nCopies: 30 \nMinisterial Education Representative:  \nNotes: 
URL:https://welsrc.net/event/dakota-montana-western-conference/
LOCATION:Hope Lutheran Church-Spearfish\, 913 S. 34th St.\, Spearfish\, SD\, 57783-9449\, United States
CATEGORIES:Conferences and Conventions
ORGANIZER;CN="Mark Schutz":MAILTO:pastorschutz@hopelutheran.us
GEO:44.4690396;-103.8044614
X-APPLE-STRUCTURED-LOCATION;VALUE=URI;X-ADDRESS=Hope Lutheran Church-Spearfish 913 S. 34th St. Spearfish SD 57783-9449 United States;X-APPLE-RADIUS=500;X-TITLE=913 S. 34th St.:geo:-103.8044614,44.4690396
END:VEVENT
BEGIN:VEVENT
DTSTART;VALUE=DATE:20260929
DTEND;VALUE=DATE:20261001
DTSTAMP:20260422T095759
CREATED:20260421T180401Z
LAST-MODIFIED:20260421T180401Z
UID:10001329-1790640000-1790812799@welsrc.net
SUMMARY:Nebraska - Western Conference
DESCRIPTION:Pastors conference \n\nCopies: 35 \nMinisterial Education Representative:  \nNotes: 
URL:https://welsrc.net/event/nebraska-western-conference/
LOCATION:Living Word Lutheran Church – Montrose\, CO\, 2820 Peyton Dr\, Montrose\, CO\, 81401-7133\, United States
CATEGORIES:Conferences and Conventions
ORGANIZER;CN="Tyler Peil":MAILTO:tylerpeil@gmail.com
END:VEVENT
BEGIN:VEVENT
DTSTART;VALUE=DATE:20261005
DTEND;VALUE=DATE:20261007
DTSTAMP:20260422T095759
CREATED:20260421T180649Z
LAST-MODIFIED:20260421T180649Z
UID:10001330-1791158400-1791331199@welsrc.net
SUMMARY:Michigan - Northern Conference
DESCRIPTION:Pastors conference \n\nCopies: 55 \nMinisterial Education Representative:  \nNotes: 
URL:https://welsrc.net/event/michigan-northern-conference-3/
LOCATION:St. John Lutheran Church – Mio\, 75 N Mt Tom Rd\, Mio\, MI\, 48647\, United States
CATEGORIES:Conferences and Conventions
ORGANIZER;CN="Matt Arnold":MAILTO:nconfsec@gmail.com
END:VEVENT
BEGIN:VEVENT
DTSTART;VALUE=DATE:20261011
DTEND;VALUE=DATE:20261014
DTSTAMP:20260422T095759
CREATED:20251022T194129Z
LAST-MODIFIED:20251022T194129Z
UID:10001250-1791676800-1791935999@welsrc.net
SUMMARY:Dakota-Montana/Nebraska District Teachers Conference
DESCRIPTION:Teachers conference \n\nCopies: 140 \nMinisterial Education Representative:  \nNotes: 
URL:https://welsrc.net/event/dakota-montana-nebraska-district-teachers-conference/
LOCATION:YMCA – Estes Pask\, Colo.\, 2515 Tunnel Rd\, Estes Park\, CO\, 80511\, United States
CATEGORIES:Conferences and Conventions
ORGANIZER;CN="Joel Lauber":MAILTO:jlauber@goodshepherdomaha.com
END:VEVENT
BEGIN:VEVENT
DTSTART;VALUE=DATE:20261012
DTEND;VALUE=DATE:20261014
DTSTAMP:20260422T095759
CREATED:20260205T204117Z
LAST-MODIFIED:20260205T204117Z
UID:10001279-1791763200-1791935999@welsrc.net
SUMMARY:Minnesota - Red Wing Conference
DESCRIPTION:Pastors conference \n\nCopies: 1 \nMinisterial Education Representative:  \nNotes: Send 1 copy by PDF to pdsternberg@yahoo.com
URL:https://welsrc.net/event/minnesota-red-wing-conference-2/
LOCATION:WI
CATEGORIES:Conferences and Conventions
ORGANIZER;CN="Peter Sternberg":MAILTO:pdsternberg@yahoo.com
END:VEVENT
BEGIN:VEVENT
DTSTART;VALUE=DATE:20261012
DTEND;VALUE=DATE:20261015
DTSTAMP:20260422T095759
CREATED:20250514T182201Z
LAST-MODIFIED:20260421T181037Z
UID:10001202-1791763200-1792022399@welsrc.net
SUMMARY:Northern Wisconsin/Southeastern Wisconsin/Western Wisconsin - Manitowoc/Kettle Moraine/Western Lakes Conference/Central
DESCRIPTION:Pastors conference \n\nCopies: 190 \nMinisterial Education Representative:  \nNotes: Send 1 copy by pdf to yukonj98@gmail.com.
URL:https://welsrc.net/event/northern-wisconsin-southeastern-wisconsin-western-wisconsin-manitowoc-kettle-moraine-western-lakes-conference-central/
LOCATION:Osthoff Resort\, Elkhart Lake\, WI\, United States
CATEGORIES:Conferences and Conventions
ORGANIZER;CN="Steve Wall":MAILTO:yukonj98@gmail.com
GEO:43.8333269;-88.0178729
END:VEVENT
BEGIN:VEVENT
DTSTART;VALUE=DATE:20261012
DTEND;VALUE=DATE:20261015
DTSTAMP:20260422T095759
CREATED:20251022T194342Z
LAST-MODIFIED:20251022T194342Z
UID:10001251-1791763200-1792022399@welsrc.net
SUMMARY:North Atlantic - Colonial South Conference
DESCRIPTION:Pastors conference \n\nCopies: 30 \nMinisterial Education Representative:  \nNotes: 
URL:https://welsrc.net/event/north-atlantic-colonial-south-conference/
LOCATION:WI
CATEGORIES:Conferences and Conventions
ORGANIZER;CN="Paul Workentine":MAILTO:paul.workentine@gmail.com
END:VEVENT
BEGIN:VEVENT
DTSTART;VALUE=DATE:20261013
DTEND;VALUE=DATE:20261014
DTSTAMP:20260422T095759
CREATED:20260421T181202Z
LAST-MODIFIED:20260421T181202Z
UID:10001328-1791849600-1791935999@welsrc.net
SUMMARY:Southeastern Wisconsin - Shoreland Conference
DESCRIPTION:Pastors conference \n\nCopies: 30 \nMinisterial Education Representative:  \nNotes: 
URL:https://welsrc.net/event/southeastern-wisconsin-shoreland-conference-2/
LOCATION:WI
CATEGORIES:Conferences and Conventions
END:VEVENT
BEGIN:VEVENT
DTSTART;VALUE=DATE:20261014
DTEND;VALUE=DATE:20261017
DTSTAMP:20260422T095759
CREATED:20250807T192436Z
LAST-MODIFIED:20251014T165916Z
UID:10001215-1791936000-1792195199@welsrc.net
SUMMARY:South Atlantic District Conference
DESCRIPTION:Pastors\, teachers conference \n\nCopies: 1 \nMinisterial Education Representative: D. Rodewal \nNotes: Send 1 copy by pdf to conference@sa.wels.net.
URL:https://welsrc.net/event/south-atlantic-district-conference/
LOCATION:WI
CATEGORIES:Conferences and Conventions
ORGANIZER;CN="Ben Kratz":MAILTO:Pastor@OurSaviorBirmingham.com
END:VEVENT
BEGIN:VEVENT
DTSTART;VALUE=DATE:20261014
DTEND;VALUE=DATE:20261017
DTSTAMP:20260422T095759
CREATED:20251014T173812Z
LAST-MODIFIED:20260128T151814Z
UID:10001241-1791936000-1792195199@welsrc.net
SUMMARY:Michigan/North Atlantic Teachers Conference
DESCRIPTION:Teachers conference \n\nCopies: 200 \nMinisterial Education Representative:  \nNotes: 
URL:https://welsrc.net/event/michigan-north-atlantic-teachers-conference/
LOCATION:Beautiful Savior Lutheran Church- Cincinnati\, 11981 Pippin Rd\, Cincinnati\, OH\, 45231\, United States
CATEGORIES:Conferences and Conventions
ORGANIZER;CN="George Kellermann":MAILTO:gkellermann@goodshepherdmidland.com
GEO:39.30275;-84.573562
X-APPLE-STRUCTURED-LOCATION;VALUE=URI;X-ADDRESS=Beautiful Savior Lutheran Church- Cincinnati 11981 Pippin Rd Cincinnati OH 45231 United States;X-APPLE-RADIUS=500;X-TITLE=11981 Pippin Rd:geo:-84.573562,39.30275
END:VEVENT
BEGIN:VEVENT
DTSTART;VALUE=DATE:20261015
DTEND;VALUE=DATE:20261017
DTSTAMP:20260422T095759
CREATED:20251022T194631Z
LAST-MODIFIED:20251022T194631Z
UID:10001252-1792022400-1792195199@welsrc.net
SUMMARY:Minnesota District Teachers Conference
DESCRIPTION:Teachers conference \n\nCopies: 350 \nMinisterial Education Representative:  \nNotes: 
URL:https://welsrc.net/event/minnesota-district-teachers-conference/
LOCATION:St Croix Lutheran Academy\, 1200 Oakdale Ave\, West St Paul\, MN\, 55118\, United States
CATEGORIES:Conferences and Conventions
ORGANIZER;CN="Ryan Klatt":MAILTO:klattrw@gmail.com
END:VEVENT
BEGIN:VEVENT
DTSTART;TZID=America/Chicago:20261017T073000
DTEND;TZID=America/Chicago:20261017T153000
DTSTAMP:20260422T095759
CREATED:20260325T163341Z
LAST-MODIFIED:20260325T163341Z
UID:10001317-1792222200-1792251000@welsrc.net
SUMMARY:Men of His Word Conference - Milwaukee
DESCRIPTION:The 3rd annual Milwaukee Men of His Word Conference will be held on October 17th\, 2026. \nMen of His Word is a grass roots Christian non-profit organization\, which started 17 years ago in Oshkosh\, Wisconsin. Men of His Word equips Christian men to take a leadership role within their family\, within their congregation\, and in their community. In 2023\, the first conference was held in Milwaukee\, Wisconsin\, to increase accessibility for men living in Southeast Wisconsin. \nRegistration opens on June 15th\, 2026\, with Early Bird rates\, Group rates\, and Student rates available. \nMore details are available at https://www.menofhisword.org/milwaukee \nOnline registration is available at www.menofhisword.org/milwaukee and group rate pricing is available.
URL:https://welsrc.net/event/men-of-his-word-conference-milwaukee/
LOCATION:Four Points by Sheraton Milwaukee Airport\, 5311 S Howell Ave\, Milwaukee\, WI\, 53207
CATEGORIES:Conferences and Conventions
ATTACH;FMTTYPE=image/png:https://welsrc.net/wp-content/uploads/2026/03/MOHW2026CourageUnderFire-PPTSlide-Final-2-scaled.png
ORGANIZER;CN="Men of His Word":MAILTO:russ@menofhisword.org
END:VEVENT
BEGIN:VEVENT
DTSTART;VALUE=DATE:20261019
DTEND;VALUE=DATE:20261021
DTSTAMP:20260422T095759
CREATED:20260406T231049Z
LAST-MODIFIED:20260406T231049Z
UID:10001321-1792368000-1792540799@welsrc.net
SUMMARY:Michigan - Ohio Conference
DESCRIPTION:Pastors conference \n\nCopies: 1 \nMinisterial Education Representative:  \nNotes: Send 1 copy by pdf to ohconfsec@gmail.com. \n 
URL:https://welsrc.net/event/michigan-ohio-conference/
LOCATION:Amazing Grace Lutheran Church – Florence\, KY\, 7804 Pleasant Valley Rd\, Florence\, KY\, 41042\, United States
CATEGORIES:Conferences and Conventions
END:VEVENT
BEGIN:VEVENT
DTSTART;VALUE=DATE:20261020
DTEND;VALUE=DATE:20261022
DTSTAMP:20260422T095759
CREATED:20251114T154627Z
LAST-MODIFIED:20251114T154627Z
UID:10001256-1792454400-1792627199@welsrc.net
SUMMARY:Dakota-Montana - Eastern Conference
DESCRIPTION:Pastors conference \n\nCopies: 35 \nMinisterial Education Representative:  \nNotes: 
URL:https://welsrc.net/event/dakota-montana-eastern-conference/
LOCATION:Sure Foundation – Brandon\, S.D.\, 617 E Redwood Blvd.\, Brandon\, SD\, 57005\, United States
CATEGORIES:Conferences and Conventions
ORGANIZER;CN="Rev. Jonathan Werre":MAILTO:jwerre@gswels.org
END:VEVENT
BEGIN:VEVENT
DTSTART;VALUE=DATE:20261020
DTEND;VALUE=DATE:20261022
DTSTAMP:20260422T095759
CREATED:20251114T154830Z
LAST-MODIFIED:20251114T154830Z
UID:10001257-1792454400-1792627199@welsrc.net
SUMMARY:Nebraska - Eastern Conference
DESCRIPTION:Pastors conference \n\nCopies: 50 \nMinisterial Education Representative:  \nNotes: 
URL:https://welsrc.net/event/nebraska-eastern-conference-2/
LOCATION:Good Shepherd Lutheran Church – Omaha\, NE\, 5071 Center St\, Omaha\, 68106-3155
CATEGORIES:Conferences and Conventions
ORGANIZER;CN="Justin Dauck":MAILTO:justin.dauck@gmail.com
END:VEVENT
BEGIN:VEVENT
DTSTART;VALUE=DATE:20261020
DTEND;VALUE=DATE:20261022
DTSTAMP:20260422T095759
CREATED:20251114T155054Z
LAST-MODIFIED:20251114T155054Z
UID:10001258-1792454400-1792627199@welsrc.net
SUMMARY:North Atlantic - Colonial North Conference
DESCRIPTION:Pastors conference \n\nCopies: 25 \nMinisterial Education Representative:  \nNotes: 
URL:https://welsrc.net/event/north-atlantic-colonial-north-conference-2/
LOCATION:Abiding Word – Orleans\, 1575 Belcourt Blvd\, Orleans\, Ontario\, K1C 1M3\, Canada
CATEGORIES:Conferences and Conventions
ORGANIZER;CN="Gary Kluball":MAILTO:gkluball@gmail.com
GEO:45.4673378;-75.5182707
X-APPLE-STRUCTURED-LOCATION;VALUE=URI;X-ADDRESS=Abiding Word – Orleans 1575 Belcourt Blvd Orleans Ontario K1C 1M3 Canada;X-APPLE-RADIUS=500;X-TITLE=1575 Belcourt Blvd:geo:-75.5182707,45.4673378
END:VEVENT
BEGIN:VEVENT
DTSTART;VALUE=DATE:20261020
DTEND;VALUE=DATE:20261022
DTSTAMP:20260422T095759
CREATED:20260205T204338Z
LAST-MODIFIED:20260205T204338Z
UID:10001280-1792454400-1792627199@welsrc.net
SUMMARY:Arizona-California District Conference
DESCRIPTION:Pastors conference \n\nCopies: 140 \nMinisterial Education Representative:  \nNotes: 
URL:https://welsrc.net/event/arizona-california-district-conference-3/
LOCATION:Christ Our Redeemer Lutheran Church – El Paso\, TX\, 2500 George Dieter Dr\, El Paso\, TX\, 79936-3203\, United States
CATEGORIES:Conferences and Conventions
END:VEVENT
BEGIN:VEVENT
DTSTART;VALUE=DATE:20261027
DTEND;VALUE=DATE:20261029
DTSTAMP:20260422T095759
CREATED:20260205T204601Z
LAST-MODIFIED:20260205T204601Z
UID:10001281-1793059200-1793231999@welsrc.net
SUMMARY:Northern Wisconsin - Northwoods Conference
DESCRIPTION:Pastors conference \n\nCopies: 40 \nMinisterial Education Representative:  \nNotes: 
URL:https://welsrc.net/event/northern-wisconsin-northwoods-conference-2/
LOCATION:Mt Olive Lutheran Church – Iron Mountain\, MI\, 307 W H St\, Iron Mountain\, MI\, 49801-4610\, United States
CATEGORIES:Conferences and Conventions
ORGANIZER;CN="Karl Schultz":MAILTO:pastor.kmschultz@gmail.com
END:VEVENT
BEGIN:VEVENT
DTSTART;VALUE=DATE:20261105
DTEND;VALUE=DATE:20261107
DTSTAMP:20260422T095759
CREATED:20251114T172947Z
LAST-MODIFIED:20251114T173010Z
UID:10001261-1793836800-1794009599@welsrc.net
SUMMARY:Arizona-California District Conference
DESCRIPTION:Teachers conference \n\nCopies: 1 \nMinisterial Education Representative:  \nNotes: send 1 copy by pdf to principal@crossofglory.org
URL:https://welsrc.net/event/arizona-california-district-conference-2/
LOCATION:St. Paul First Lutheran Church-North Hollywood\, North Hollywood\, CA\, United States
CATEGORIES:Conferences and Conventions
ORGANIZER;CN="Nathan Reich":MAILTO:principal@redeemertucson.com
GEO:34.187044;-118.3812562
END:VEVENT
BEGIN:VEVENT
DTSTART;VALUE=DATE:20270118
DTEND;VALUE=DATE:20270120
DTSTAMP:20260422T095759
CREATED:20250514T182401Z
LAST-MODIFIED:20250514T182401Z
UID:10001203-1800230400-1800403199@welsrc.net
SUMMARY:Northern Wisconsin - Fox River Valley/Manitowoc Conference
DESCRIPTION:Pastors conference \n\nCopies: 100 \nMinisterial Education Representative:  \nNotes: 
URL:https://welsrc.net/event/northern-wisconsin-fox-river-valley-manitowoc-conference/
LOCATION:St. Paul Lutheran Church – Howards Grove\, Howards Grove\, WI\, United States
CATEGORIES:Conferences and Conventions
ORGANIZER;CN="Steve Wall":MAILTO:yukonj98@gmail.com
GEO:43.8338831;-87.8200887
END:VEVENT
BEGIN:VEVENT
DTSTART;VALUE=DATE:20270118
DTEND;VALUE=DATE:20270120
DTSTAMP:20260422T095759
CREATED:20260406T231256Z
LAST-MODIFIED:20260406T231256Z
UID:10001322-1800230400-1800403199@welsrc.net
SUMMARY:Michigan - Ohio Conference
DESCRIPTION:Pastors\, teachers\, delegates conference \n\nCopies: 1 \nMinisterial Education Representative:  \nNotes: 
URL:https://welsrc.net/event/michigan-ohio-conference-3/
LOCATION:Beautiful Savior Lutheran Church- Grove City\, 2213 White Rd.\, Grove City\, OH\, 43123\, United States
CATEGORIES:Conferences and Conventions
GEO:39.871858;-83.062267
X-APPLE-STRUCTURED-LOCATION;VALUE=URI;X-ADDRESS=Beautiful Savior Lutheran Church- Grove City 2213 White Rd. Grove City OH 43123 United States;X-APPLE-RADIUS=500;X-TITLE=2213 White Rd.:geo:-83.062267,39.871858
END:VEVENT
END:VCALENDAR